BEGIN:VCALENDAR
VERSION:2.0
PRODID:-//Modmonk Anshul - ECPv6.13.2.1//NONSGML v1.0//EN
CALSCALE:GREGORIAN
METHOD:PUBLISH
X-ORIGINAL-URL:https://www.modmonkanshul.com
X-WR-CALDESC:Events for Modmonk Anshul
REFRESH-INTERVAL;VALUE=DURATION:PT1H
X-Robots-Tag:noindex
X-PUBLISHED-TTL:PT1H
BEGIN:VTIMEZONE
TZID:UTC
BEGIN:STANDARD
TZOFFSETFROM:+0000
TZOFFSETTO:+0000
TZNAME:UTC
DTSTART:20210101T000000
END:STANDARD
END:VTIMEZONE
BEGIN:VEVENT
DTSTART;TZID=UTC:20230526T200000
DTEND;TZID=UTC:20230526T210000
DTSTAMP:20260423T231831
CREATED:20211228T072753Z
LAST-MODIFIED:20230323T050226Z
UID:2502-1685131200-1685134800@www.modmonkanshul.com
SUMMARY:Sound Healing Session
DESCRIPTION:Don’t miss this experience !! Resonate with the universal vibration of Abudance! \nJoin ModMonk Anshul\, a renowned Spiritual Coach & Mystic\, on this harmonious and tranquil music journey and sounds for 70 mins and experience your stresses melting away through sound healing! \nSound & music work with our brain wave and communicate with each cell and tissue in our body\, releasing toxins and stress. \nSound healing is a powerful technique that will help you de-stress and release caught up emotional toxins in your body and let go! \nSound is the oldest form of medicine & healing! Almost everything we experience in the universe is our perception of waves. \nListening to music and instruments\, BOWLS\, FLUTE\, Signing bowls\, and other instruments; floods our brains with dopamine — the happy HORMONE. It also releases oxytocin\, a natural painkiller and hormone that allows us to bond with and trust people! \nFew Benefits!  \nHealing with sound can improve or cure many ailments including\, but not limited to: \n**Psychological/Psychiatric and behavioural disorders including autism\, depression\, learning disabilities\, and developmental troubles \nAnxiety disorder\,Stress\, PTSD\,Pain\, Mood swings\, or negative emotions\, such as sadness\, aggravation\, anger\, self-pity\, and heartbreak. \n**It can also bring about: \nClarity and balance\,Relaxation\, Improved memory and concentration\,Improved sleep (both in quality and quantity) \n\nTestimonials –
URL:https://www.modmonkanshul.com/event/sound-healing-session/
END:VEVENT
BEGIN:VEVENT
DTSTART;TZID=UTC:20230506T170000
DTEND;TZID=UTC:20230507T190000
DTSTAMP:20260423T231831
CREATED:20211228T072841Z
LAST-MODIFIED:20230323T045651Z
UID:2506-1683392400-1683486000@www.modmonkanshul.com
SUMMARY:Chakra Healing Workshop
DESCRIPTION:CHAKRA HEALING AND BALANCING WORKSHOP \nModMonk Anshul brings to you a Chakra Healing and Balancing Workshop where she guides you to heal mind\, body and soul through the healing of your chakras. \nFeel more grounded\, improve self-confidence and self-esteem\, give and receive love with ease\, communicate clearly\, improve mental focus and feel a greater sense of connection with this Workshop. \n  \nOn the physical level\, each chakra governs frequency and every organ\, gland\, and body system is connected to a chakra and each chakra is connected to a colour vibrational frequency which affects how we think and how our emotional state if.  \nIn simple words\, every chakra has a duty to do\, and an area to look after!  \n  \nThe benefit of learning about your own chakra system is for you to understand on a whole (whole = body\, mind and spirit in harmony) that when all parts of you (all of your seven chakra centres) are communicating smoothly  and working in alignment with each other\, you will have little or no energy disorders and can block the wheel ( chakras ) of the energy centres. Meditating on chakras helps in  keeping our mind\, physical body and spirit happy\, wise and disease-free. \nThere are several reasons why a chakra can be blocked\, some of them are negative emotions\, fears\, and bad lifestyle and other derogatory habits. \nLearn the details of the Chakra system and Chakra Healing in this beautifully curated Program \nDAY 1\n\nWhat are chakras – The Basics – Colors\, Position\, symtoms\nThe Roles of each chakra in our mental\, emotional and spiritual boides\nUnderstand what issues manifest from blocked Chakras\nLearn the physical and emotional connection of your Chakras\nLearn how they affect different body parts on physical and mental health.\nVisualisation and energy checking techniques – Scanning your body for inflated & deflated Chakras\nRealigning and balancing chakra meditation\n\nDAY2\n\nUnderstanding Beej Mantras\, and activating each chakra with ‘MANTRA MEDITATION”\nAnd colour visualisation\nUnderstanding the physical mental and emotional connections with chakras\nLearning which chakra should be healed and activated for particular issues you are facing.\nAffirmation for each chakra\, and lotus garden meditation
URL:https://www.modmonkanshul.com/event/chakra-healing-workshop/
ATTACH;FMTTYPE=image/png:https://www.modmonkanshul.com/wp-content/uploads/2021/12/7th-8th-April-2-days-.png
END:VEVENT
BEGIN:VEVENT
DTSTART;TZID=UTC:20230429T160000
DTEND;TZID=UTC:20230430T180000
DTSTAMP:20260423T231831
CREATED:20211228T072855Z
LAST-MODIFIED:20230323T045227Z
UID:2508-1682784000-1682877600@www.modmonkanshul.com
SUMMARY:Angel Therapy Workshop
DESCRIPTION:Know all about Angels and learn to connect with them to solve any problems\, improve any areas of your life be it relationships\, career\, money\, health. Manifest your desires through our Angel Therapy Workshop! \nDay 1 –\n•Introduction to Angels and the angelic realm.\n•How to connect with your Guardian Angel or your Spirit Guide.\n•Angel Meditation – to initiate your link with the angelic realm. \nDay 2 –\n•Detailed study of the hierarchy of Angels and Archangels\n•Understanding functions of Archangels\, their names and their duties.\n•How to summon Angels for help\, depending upon the situation and the kind of Angel we need.\n•Ritual to cleanse house and self-healing with the help of Angels.\n•Understanding offerings and rituals to welcome Angels into our homes.
URL:https://www.modmonkanshul.com/event/angel-therapy-workshop/
END:VEVENT
BEGIN:VEVENT
DTSTART;TZID=UTC:20230417T060000
DTEND;TZID=UTC:20230423T070000
DTSTAMP:20260423T231831
CREATED:20211228T072255Z
LAST-MODIFIED:20230323T034612Z
UID:2493-1681711200-1682233200@www.modmonkanshul.com
SUMMARY:Walking Inwards
DESCRIPTION:Walking Inward ( 7 days of SoulFul Morning ) with ModMonk Anshul\nOutline & Description of the program\nWho should take the course  \n\nYou want to awaken your soul and reconnect with your spiritual journey?\nWhat to explore the Vedic and deep rooted techniques for meditation that you can practice everyday ?\nDo you wish to understand the universal working within you?\nDo you wish to connect with the divine and build a bridge for knowledge and information flow from the higher consciousness.\nThose looking to Reconnect with Mind\, Body and Spirit\nIf Stress & Anxiety plague you\nIf you fail to keep your thoughts & emotions in control.\nIf you are stuck in the cycle of self-blame\, low self-love and respect.\n\nBegin the journey of self-awareness and build internal resilience with 7 days of Soulful Bliss- Walking Inward Meditation Program with renowned Spiritual Coach ModMonk Anshul. \nWhat all you will learn in 7 days program\n\nScience of Meditation\, how the body works and connects the five elements within and without.\nHow meditation affects body and its relation with our anatomy\nRules and correct way to meditate\, breaking the myths.\nHow to train your mind to stay in the meditative state\nUnderstand Breath work and Vedic way of pranayama\, various techniques\nVisualisation\nMantra Chanting\nSilence Meditation\nThought release\nSufi Trance movement Meditation\nEmotional Release Meditation\nTotal 11 AGE OLD VEDIC techniques of practices in meditation\nRe-centering and Refocusing on Inner Self\nMindfulness techniques and more in this Course\n\nBuild a routine of regular morning practice of Meditation as its most beneficial during the early hours\, connect with the divine source and energise for the day as you heal & cleanse your soul \nYOU WILL BE GIVEN NOTES EVERYDAY TO MAKE SURE YOU ARE ON THE RIGHT TRACK AND CAN REFER TO WHEN NEEDED.
URL:https://www.modmonkanshul.com/event/walking-inwards/
ATTACH;FMTTYPE=image/png:https://www.modmonkanshul.com/wp-content/uploads/2021/12/1.png
END:VEVENT
BEGIN:VEVENT
DTSTART;TZID=UTC:20211228T080000
DTEND;TZID=UTC:20211228T170000
DTSTAMP:20260423T231831
CREATED:20211228T072826Z
LAST-MODIFIED:20211228T072826Z
UID:2504-1640678400-1640710800@www.modmonkanshul.com
SUMMARY:Emotional Meditation Release
DESCRIPTION:
URL:https://www.modmonkanshul.com/event/emotional-meditation-release/
END:VEVENT
BEGIN:VEVENT
DTSTART;TZID=UTC:20211228T080000
DTEND;TZID=UTC:20211228T170000
DTSTAMP:20260423T231831
CREATED:20211228T072636Z
LAST-MODIFIED:20211228T072636Z
UID:2500-1640678400-1640710800@www.modmonkanshul.com
SUMMARY:Spiritual Tarot Reading
DESCRIPTION:
URL:https://www.modmonkanshul.com/event/spiritual-tarot-reading/
END:VEVENT
BEGIN:VEVENT
DTSTART;TZID=UTC:20211228T080000
DTEND;TZID=UTC:20211228T170000
DTSTAMP:20260423T231831
CREATED:20211228T072353Z
LAST-MODIFIED:20211228T072357Z
UID:2495-1640678400-1640710800@www.modmonkanshul.com
SUMMARY:Inhale Exhale Trance Movement Meditation
DESCRIPTION:
URL:https://www.modmonkanshul.com/event/inhale-exhale-trance-movement-meditation/
END:VEVENT
BEGIN:VEVENT
DTSTART;TZID=UTC:20211228T080000
DTEND;TZID=UTC:20211228T170000
DTSTAMP:20260423T231831
CREATED:20211228T071838Z
LAST-MODIFIED:20211228T071838Z
UID:2491-1640678400-1640710800@www.modmonkanshul.com
SUMMARY:Manifestation through Affirmation Workshop
DESCRIPTION:
URL:https://www.modmonkanshul.com/event/manifestation-through-affirmation-workshop/
END:VEVENT
END:VCALENDAR